BEGIN:VCALENDAR
PRODID:-//Veranstaltung//EN
VERSION:2.0
CALSCALE:GREGORIAN
BEGIN:VEVENT
DTSTART;VALUE=DATE-TIME:20201030T000000
DTEND;VALUE=DATE-TIME:20201030T235959
SUMMARY:El bicentenario de la política exterior peruana y su proyección en un mundo de cambios
LOCATION:
DESCRIPTION:
UID:
END:VEVENT
END:VCALENDAR