BEGIN:VCALENDAR
PRODID:-//Veranstaltung//EN
VERSION:2.0
CALSCALE:GREGORIAN
BEGIN:VEVENT
DTSTART;VALUE=DATE-TIME:20220907T100000
DTEND;VALUE=DATE-TIME:20220907T190000
SUMMARY:Tag der KAS 2022
LOCATION:Berlin
DESCRIPTION:
UID:
END:VEVENT
END:VCALENDAR