BEGIN:VCALENDAR
PRODID:-//Veranstaltung//EN
VERSION:2.0
CALSCALE:GREGORIAN
BEGIN:VEVENT
DTSTART;VALUE=DATE-TIME:20240110T180000
DTEND;VALUE=DATE-TIME:20240110T193000
SUMMARY:Was weiß Moskau? Weltbild und Arbeit der russischen Geheimdienste im In- und Ausland
LOCATION:
DESCRIPTION:Der Krieg gegen die Ukraine wirft ein Schlaglicht auf die Aktivitäten der russischen Militärs und Geheimdienste. Dieser Vortrag will die Frage beleuchten, was russische Spioninnen und Spione antreibt und wie sie arbeiten.
UID:
END:VEVENT
END:VCALENDAR