BEGIN:VCALENDAR
PRODID:-//Veranstaltung//EN
VERSION:2.0
CALSCALE:GREGORIAN
BEGIN:VEVENT
DTSTART;VALUE=DATE-TIME:20231201T000000
DTEND;VALUE=DATE-TIME:20231220T235959
SUMMARY:KAS Media Africa Local Journalism Award Call for Submissions 2024
LOCATION:
DESCRIPTION:Local journalism is what makes the media and its audiences tick. It is the stories around us and about us, that speak to the situation in a country. Moreover, local news, if presented professionally, can be elevated to national level and sometimes, even make international headlines. Many local journalists struggle daily with breaking international news down to a local level. How does a coup d’état in Mali affect its neighbouring countries? What does climate change mean for the subsistence farmer in Zimbabwe?
UID:
END:VEVENT
END:VCALENDAR