BEGIN:VCALENDAR
PRODID:-//Veranstaltung//EN
VERSION:2.0
CALSCALE:GREGORIAN
BEGIN:VEVENT
DTSTART;VALUE=DATE-TIME:20240528T111500
DTEND;VALUE=DATE-TIME:20240528T131500
SUMMARY:"Wir sollten auch für die beten, die uns hassen."
LOCATION:Fulda
DESCRIPTION:Die Christen sind im Heiligen Land eine kleine Minderheit. Genaue Zahlen sind schwer zu benennen, auch angesichts des Wegzugs vieler Christen in den vergangenen Jahren. In Israel handelt es sich um etwa zwei Prozent von rund neun Millionen Bürgern. Die Christen sind im Heiligen Land in rund 30 verschiedenen Kirchen zusammengeschlossen.
UID:
END:VEVENT
END:VCALENDAR