BEGIN:VCALENDAR
PRODID:-//Veranstaltung//EN
VERSION:2.0
CALSCALE:GREGORIAN
BEGIN:VEVENT
DTSTART;VALUE=DATE-TIME:20240423T180000
DTEND;VALUE=DATE-TIME:20240423T235959
SUMMARY:Zeitenwende?
LOCATION:Vienna
DESCRIPTION:
UID:
END:VEVENT
END:VCALENDAR