BEGIN:VCALENDAR
PRODID:-//Veranstaltung//EN
VERSION:2.0
CALSCALE:GREGORIAN
BEGIN:VEVENT
DTSTART;VALUE=DATE-TIME:20240621T133000
DTEND;VALUE=DATE-TIME:20240622T140000
SUMMARY:Guter Wohnraum für alle - ein ungelöstes Versprechen der Wohlstandsgesellschaft?
LOCATION:Siegburg
DESCRIPTION:Wo und warum hakt es mit dem finanzierbaren und schnellen Bauen? Welche Leitplanken des Marktes und der Menschenwürde muss die Wohnungsbaupolitik (ggf. stärker) beachten? Welche Neuansätze könnten Besserung in Aussicht stellen? Begeben Sie sich mit unserem Seminar auf die Suche nach Antworten! Die Veranstaltung wird in Kooperation mit dem Katholisch-Sozialen Institut Siegburg (KSI) durchgeführt.
UID:
END:VEVENT
END:VCALENDAR