BEGIN:VCALENDAR
PRODID:-//Veranstaltung//EN
VERSION:2.0
CALSCALE:GREGORIAN
BEGIN:VEVENT
DTSTART;VALUE=DATE-TIME:20240515T000000
DTEND;VALUE=DATE-TIME:20240515T235959
SUMMARY:Webinar "Nuevos horizontes en la constitucionalización del derecho en América Latina"
LOCATION:
DESCRIPTION:En esta nueva versión, las autoras y autores del Anuario exploran la interacción del derecho constitucional
con diferentes materias y asuntos, evidenciando una tendencia cada vez creciente hacia la
constitucionalización del derecho en nuestra región.
UID:
END:VEVENT
END:VCALENDAR