BEGIN:VCALENDAR
PRODID:-//Veranstaltung//EN
VERSION:2.0
CALSCALE:GREGORIAN
BEGIN:VEVENT
DTSTART;VALUE=DATE-TIME:20240509T090000
DTEND;VALUE=DATE-TIME:20240510T235959
SUMMARY:Seminario Internacional de Derecho Constitucional y Derechos Humanos
LOCATION:
DESCRIPTION:El Programa y el Departamento de Derecho de la Universidad Católica del Uruguay invitan a toda la comunidad académica uruguaya a participar de la vigesimonovena versión del Seminario Internacional de Derecho Constitucional y Derechos
Humanos en modalidad presencial con transmisión en línea.
UID:
END:VEVENT
END:VCALENDAR