BEGIN:VCALENDAR
PRODID:-//Veranstaltung//EN
VERSION:2.0
CALSCALE:GREGORIAN
BEGIN:VEVENT
DTSTART;VALUE=DATE-TIME:20240529T183000
DTEND;VALUE=DATE-TIME:20240529T235959
SUMMARY:Das Land der Gegensätze vor den großen Wahlen – wohin steuert Mexiko?
LOCATION:
DESCRIPTION:In Mexiko entscheiden 97,6 Millionen Wahlberechtigte über mehr als 20.000 Mandate auf allen staatlichen Ebenen. Dazu gehören eine neue Legislative und das Amt des Staatsoberhaupts, das erstmals eine Frau innehaben wird. Aber auch in zahlreichen der 32 Bundesstaaten werden die politischen Karten neu gemischt, es stehen Gouverneursposten (vgl. Ministerpräsident), Landtage und landesweit kommunale Amtsträger zur Wahl.
UID:
END:VEVENT
END:VCALENDAR