BEGIN:VCALENDAR
PRODID:-//Veranstaltung//EN
VERSION:2.0
CALSCALE:GREGORIAN
BEGIN:VEVENT
DTSTART;VALUE=DATE-TIME:20240531T000000
DTEND;VALUE=DATE-TIME:20240531T235959
SUMMARY:Бургаски форум за свързаност 2024
LOCATION:
DESCRIPTION:Транспортната свързаност е осезаем символ на европейското единство и интеграция. Бургаският форум за свързаност 2024 е уникално събитие, което събира експерти и политици, за да обсъдят най-новите тенденции, предизвикателства и възможности в областта на свързаността.
UID:
END:VEVENT
END:VCALENDAR