BEGIN:VCALENDAR
PRODID:-//Veranstaltung//EN
VERSION:2.0
CALSCALE:GREGORIAN
BEGIN:VEVENT
DTSTART;VALUE=DATE-TIME:20240531T000000
DTEND;VALUE=DATE-TIME:20240531T235959
SUMMARY:Burgas Konnektivitätsforum 2024
LOCATION:
DESCRIPTION:Verkehrsanbindung ist ein greifbares Symbol der europäischen Einheit und Integration. Das Burgas Konnektivitätsforum 2024 ist eine einzigartige Veranstaltung, die Experten und politische Entscheidungsträger zusammenbringt, um die neuesten Trends, Herausforderungen und Chancen im Bereich der Vernetzung zu diskutieren.
UID:
END:VEVENT
END:VCALENDAR