BEGIN:VCALENDAR
PRODID:-//Veranstaltung//EN
VERSION:2.0
CALSCALE:GREGORIAN
BEGIN:VEVENT
DTSTART;VALUE=DATE-TIME:20240514T171500
DTEND;VALUE=DATE-TIME:20240514T193000
SUMMARY:Conference: 75 Years of NATO
LOCATION:
DESCRIPTION:The Konrad Adenauer Foundation, Office in Prishtina is organizing the conference: “75 Years of NATO: Stability and Security Challenges”, which will be held on Tuesday, 14 May 2024 from 17:15 at Hotel Sirius, Prishtina.
The activity brings together representatives from Politics, Civil Society, and the Military sphere to discuss the developments in the region and beyond, which are real challenges in this important anniversary of NATO. Working languages of the event are English and Albanian with simultaneous interpretation provided.
UID:
END:VEVENT
END:VCALENDAR