BEGIN:VCALENDAR
PRODID:-//Veranstaltung//EN
VERSION:2.0
CALSCALE:GREGORIAN
BEGIN:VEVENT
DTSTART;VALUE=DATE-TIME:20240625T170000
DTEND;VALUE=DATE-TIME:20240625T210000
SUMMARY:75 Jahre Düsseldorfer Leitsätze
LOCATION:Düsseldorf
DESCRIPTION:Wir möchten das Düsseldorfer Jubiläum der Sozialen Marktwirtschaft nutzen, um die dankbare Erinnerung direkt nach vorne zu wenden: Daher sprechen wir mit Wirtschaft, Wissenschaft und Politik über die aktuellen ökonomischen Herausforderungen – diskutieren Sie mit!
UID:
END:VEVENT
END:VCALENDAR