BEGIN:VCALENDAR
PRODID:-//Veranstaltung//EN
VERSION:2.0
CALSCALE:GREGORIAN
BEGIN:VEVENT
DTSTART;VALUE=DATE-TIME:20240530T180000
DTEND;VALUE=DATE-TIME:20240530T235959
SUMMARY:Ein Blick hinter Mauern
LOCATION:Budapest
DESCRIPTION:
UID:
END:VEVENT
END:VCALENDAR