BEGIN:VCALENDAR
PRODID:-//Veranstaltung//EN
VERSION:2.0
CALSCALE:GREGORIAN
BEGIN:VEVENT
DTSTART;VALUE=DATE-TIME:20240127T150000
DTEND;VALUE=DATE-TIME:20240127T183000
SUMMARY:Conferencia sobre la inmigración en Europa
LOCATION:
DESCRIPTION:
UID:
END:VEVENT
END:VCALENDAR