BEGIN:VCALENDAR
PRODID:-//Veranstaltung//EN
VERSION:2.0
CALSCALE:GREGORIAN
BEGIN:VEVENT
DTSTART;VALUE=DATE-TIME:20240412T190000
DTEND;VALUE=DATE-TIME:20240412T235959
SUMMARY:Sesión sobre "Seminario de pensamiento político: Política y civilización en Roger Scruton
LOCATION:
DESCRIPTION:El seminario "El siglo XX y el pensamiento político", organizado por el Club Tocqueville en colaboración con la Fundación Konrad Adenauer, GEDECO (Grupo de Estudios sobre Democracia y Constitucionalismo) tuvo como tema "Política y civilización en Roger Scruton". El ponente principal fue Jorge Soley, Economista y Empresario.
UID:
END:VEVENT
END:VCALENDAR