BEGIN:VCALENDAR
PRODID:-//Veranstaltung//EN
VERSION:2.0
CALSCALE:GREGORIAN
BEGIN:VEVENT
DTSTART;VALUE=DATE-TIME:20240412T190000
DTEND;VALUE=DATE-TIME:20240412T235959
SUMMARY:Palestra sobre "Política e Civilização em Roger Scruton", com Jorge Soley
LOCATION:
DESCRIPTION:O seminário "O Século XX e o Pensamento Político", organizado pelo Club Tocqueville em colaboração com a Fundação Konrad Adenauer, o GEDECO (Grupo de Estudos sobre Democracia e Constitucionalismo), teve como tema "Seminário "Política e Civilização em Roger Scruton", com Jorge Soley.
UID:
END:VEVENT
END:VCALENDAR