BEGIN:VCALENDAR
PRODID:-//Veranstaltung//EN
VERSION:2.0
CALSCALE:GREGORIAN
BEGIN:VEVENT
DTSTART;VALUE=DATE-TIME:20240315T190000
DTEND;VALUE=DATE-TIME:20240315T203000
SUMMARY:Vortrag zum Thema "Finnis und George - Die neue Schule des Rechts"
LOCATION:
DESCRIPTION:Das Seminar "Das 20. Jahrhundert und das politische Denken", das vom Club Tocqueville in Zusammenarbeit mit der Konrad-Adenauer-Stiftung, der GEDECO (Studiengruppe für Demokratie und Konstitutionalismus) organisiert wurde, fand am 15. März 2024 zum Thema "Finnis und George. Die neue Schule des Rechts" in Barcelona statt. Hauptredner war Francisco José Contreras, Professor für Rechtsphilosophie an der Universität von Sevilla.
UID:
END:VEVENT
END:VCALENDAR