BEGIN:VCALENDAR
PRODID:-//Veranstaltung//EN
VERSION:2.0
CALSCALE:GREGORIAN
BEGIN:VEVENT
DTSTART;VALUE=DATE-TIME:20240315T190000
DTEND;VALUE=DATE-TIME:20240315T203000
SUMMARY:Seminario de pensamiento político: Finnis y George-La Nueva Escuela del Derecho Natural"
LOCATION:
DESCRIPTION:El seminario "El siglo XX y el pensamiento político", organizado por el Club Tocqueville en colaboración con la Fundación Konrad Adenauer, GEDECO (Grupo de Estudios sobre Democracia y Constitucionalismo), tuvo lugar el 15 de marzo de 2024 sobre el tema "Finnis y George. La nueva escuela del Derecho Natural" en Barcelona. El ponente principal fue Francisco José Contreras, Catedrático de Filosofía del Derecho de la Universidad de Sevilla.
UID:
END:VEVENT
END:VCALENDAR