BEGIN:VCALENDAR
PRODID:-//Veranstaltung//EN
VERSION:2.0
CALSCALE:GREGORIAN
BEGIN:VEVENT
DTSTART;VALUE=DATE-TIME:20240315T190000
DTEND;VALUE=DATE-TIME:20240315T203000
SUMMARY:Palestra sobre o tema "Finnis e George - A nova escola de direito"
LOCATION:
DESCRIPTION:O seminário "O século XX e o pensamento político", organizado pelo Clube Tocqueville em colaboração com a Fundação Konrad Adenauer, GEDECO (Grupo de Estudos sobre a Democracia e o Constitucionalismo), teve lugar no dia 15 de março de 2024 sobre o tema "Finnis e George. A nova escola de direito natural", em Barcelona. O orador principal foi Francisco José Contreras, professor de Filosofia do Direito na Universidade de Sevilha.
UID:
END:VEVENT
END:VCALENDAR