BEGIN:VCALENDAR
PRODID:-//Veranstaltung//EN
VERSION:2.0
CALSCALE:GREGORIAN
BEGIN:VEVENT
DTSTART;VALUE=DATE-TIME:20240424T180000
DTEND;VALUE=DATE-TIME:20240424T235959
SUMMARY:Konferenz "Die Rolle Europas in den Gemeinden Portugals"
LOCATION:
DESCRIPTION:In Zusammenarbeit mit der Gemeinde Castelo de Paiva ist das Ziel dieser Konferenz einen Austausch zwischen Kommunen, der Zivilgesellschaft und der Privatwirtschaft rund um die Rolle Europas in den Kommunen zu schaffen und ein Verständnis bezüglich europäischer Fonds in den Gemeinden zu schaffen.
UID:
END:VEVENT
END:VCALENDAR