BEGIN:VCALENDAR
PRODID:-//Veranstaltung//EN
VERSION:2.0
CALSCALE:GREGORIAN
BEGIN:VEVENT
DTSTART;VALUE=DATE-TIME:20240424T180000
DTEND;VALUE=DATE-TIME:20240424T235959
SUMMARY:Conferencia "El papel de Europa en las comunidades de Portugal"
LOCATION:
DESCRIPTION:En cooperación con el municipio de Castelo de Paiva, el objetivo de esta conferencia es crear un intercambio entre los municipios, la sociedad civil y el sector privado en torno al papel de Europa en los municipios y crear una comprensión alrededor de los fondos europeos en los municipios.
UID:
END:VEVENT
END:VCALENDAR