BEGIN:VCALENDAR
PRODID:-//Veranstaltung//EN
VERSION:2.0
CALSCALE:GREGORIAN
BEGIN:VEVENT
DTSTART;VALUE=DATE-TIME:20240424T180000
DTEND;VALUE=DATE-TIME:20240424T235959
SUMMARY:Conferência "O papel da Europa nas comunidades de Portugal"
LOCATION:
DESCRIPTION:Em cooperação com o município de Castelo de Paiva, o objetivo desta conferência é criar um intercâmbio entre os municípios, a sociedade civil e o sector privado sobre o papel da Europa nos municípios e criar um entendimento sobre os fundos europeus nos municípios.
UID:
END:VEVENT
END:VCALENDAR