BEGIN:VCALENDAR
PRODID:-//Veranstaltung//EN
VERSION:2.0
CALSCALE:GREGORIAN
BEGIN:VEVENT
DTSTART;VALUE=DATE-TIME:20240119T190000
DTEND;VALUE=DATE-TIME:20240119T235959
SUMMARY:Vortrag zum Thema "Politischer Realismus in Max Webers liberaler Soziologie" mit Emilio Lamo
LOCATION:
DESCRIPTION:Das Seminar "Das 20. Jahrhundert und das politische Denken", das vom Club Tocqueville in Zusammenarbeit mit der Konrad-Adenauer-Stiftung, der GEDECO (Studiengruppe für Demokratie und Konstitutionalismus) hatte das Thema „Der politische Realismus in Max Webers liberaler Soziologie“ mit
Emilio Lamo de Espinosa, emeritierter Professor für Soziologie an der Universidad Complutense de Madrid und Ehemaliger Präsident des Real Instituto Elcano.
UID:
END:VEVENT
END:VCALENDAR