BEGIN:VCALENDAR
PRODID:-//Veranstaltung//EN
VERSION:2.0
CALSCALE:GREGORIAN
BEGIN:VEVENT
DTSTART;VALUE=DATE-TIME:20240119T190000
DTEND;VALUE=DATE-TIME:20240119T235959
SUMMARY:Sesión sobre "El realismo político en la sociología liberal de Max Weber" con Emilio Lamo
LOCATION:
DESCRIPTION:El seminario "El siglo XX y el pensamiento político", organizado por el Club Tocqueville en colaboración con la Fundación Konrad Adenauer, el GEDECO (Grupo de Estudios sobre Democracia y Constitucionalismo tuvo como tema "El realismo político en la sociología liberal de Max Weber" con
Emilio Lamo de Espinosa, Catedrático Emérito de Sociología de la Universidad Complutense de Madrid y ex Presidente del Real Instituto Elcano.
UID:
END:VEVENT
END:VCALENDAR