BEGIN:VCALENDAR
PRODID:-//Veranstaltung//EN
VERSION:2.0
CALSCALE:GREGORIAN
BEGIN:VEVENT
DTSTART;VALUE=DATE-TIME:20240119T190000
DTEND;VALUE=DATE-TIME:20240119T235959
SUMMARY:Palestra sobre "O Realismo Político na Sociologia Liberal de Max Weber" com Emilio Lamo
LOCATION:
DESCRIPTION:O seminário "O Século XX e o Pensamento Político", organizado pelo Club Tocqueville em colaboração com a Fundação Konrad Adenauer, o GEDECO (Grupo de Estudos para a Democracia e o Constitucionalismo) teve como tema "O Realismo Político na Sociologia Liberal de Max Weber" com
Emilio Lamo de Espinosa, Professor Emérito de Sociologia da Universidade Complutense de Madrid e antigo Presidente do Real Instituto Elcano.
UID:
END:VEVENT
END:VCALENDAR