BEGIN:VCALENDAR
PRODID:-//Veranstaltung//EN
VERSION:2.0
CALSCALE:GREGORIAN
BEGIN:VEVENT
DTSTART;VALUE=DATE-TIME:20240510T000000
DTEND;VALUE=DATE-TIME:20240510T235959
SUMMARY:KONFERENZ ZUM KLIMASCHUTZBESCHLUSS DES BUNDESVERFASSUNGSGERICHTS
LOCATION:Rio de Janeiro
DESCRIPTION:Veranstaltung des Rechtsstaatsprogramms Lateinamerika, der KAS Brasilien und der Fundação Getulio Vargas, die einen Raum für die Auseinandersetzung mit dem aktuellen Klimawandel und dessen Verursachung durch den Menschen bietet. Dieses Treffen eröffnet die Diskussion über die Praktiken Brasiliens und Deutschlands zu diesem Thema und zeigt die Bedeutung eines Austauschs zwischen internationalen Juristen für den Umweltschutz.
UID:
END:VEVENT
END:VCALENDAR