BEGIN:VCALENDAR
PRODID:-//Veranstaltung//EN
VERSION:2.0
CALSCALE:GREGORIAN
BEGIN:VEVENT
DTSTART;VALUE=DATE-TIME:20240510T000000
DTEND;VALUE=DATE-TIME:20240510T235959
SUMMARY:CONFERENCIA SOBRE LA DECISIÓN DEL TRIBUNAL CONSTITUCIONAL FEDERAL SOBRE LA PROTECCIÓN DEL CLIMA
LOCATION:Río de Janeiro
DESCRIPTION:Evento organizado por el Programa Estado de Derecho Latinoamérica, KAS Brasil y la Fundação Getulio Vargas en el que se brinda un espacio para abordar los cambios climáticos actuales y cómo estos han sido causados en su mayoría por obra humana. En este encuentro, se da apertura a la discusión sobre las prácticas de Brasil y Alemania en este tema y se demuestra la relevancia de un intercambio entre juristas internacionales por la protección medioambiental.
UID:
END:VEVENT
END:VCALENDAR