BEGIN:VCALENDAR
PRODID:-//Veranstaltung//EN
VERSION:2.0
CALSCALE:GREGORIAN
BEGIN:VEVENT
DTSTART;VALUE=DATE-TIME:20240426T000000
DTEND;VALUE=DATE-TIME:20240430T235959
SUMMARY:Segunda edición de la escuela “AWENE”
LOCATION:
DESCRIPTION:Vom 26. bis 30. April 2024 fand in Loja die zweite Ausgabe von "AWENE, Führungsschule für indigene Frauen" statt, die von der Konrad-Adenauer-Stiftung (KAS Ecuador) und der Stiftung Ciclo Rosa in Zusammenarbeit mit der Schweizer Botschaft entwickelt wurde, mit dem Ziel, ein Netzwerk indigener Führungsfrauen durch Ausbildung, partizipative und Empowerment-Prozesse zu stärken und zu konsolidieren.
UID:
END:VEVENT
END:VCALENDAR