BEGIN:VCALENDAR
PRODID:-//Veranstaltung//EN
VERSION:2.0
CALSCALE:GREGORIAN
BEGIN:VEVENT
DTSTART;VALUE=DATE-TIME:20240927T000000
DTEND;VALUE=DATE-TIME:20240927T235959
SUMMARY:XXI Conferência de Segurança Internacional do Forte
LOCATION:Rio de Janeiro
DESCRIPTION:Conferência realizada pela Fundação Konrad Adenauer em parceria com o Centro Brasileiro de Relações Internacionais - CEBRI e a Delegação da União Europeia no Brasil
UID:
END:VEVENT
END:VCALENDAR