BEGIN:VCALENDAR
PRODID:-//Veranstaltung//EN
VERSION:2.0
CALSCALE:GREGORIAN
BEGIN:VEVENT
DTSTART;VALUE=DATE-TIME:20240527T000000
DTEND;VALUE=DATE-TIME:20240527T235959
SUMMARY:Mandatos-C Network Parliamentarians Connection Meeting
LOCATION:Zoom-Conference
DESCRIPTION:
UID:
END:VEVENT
END:VCALENDAR