BEGIN:VCALENDAR
PRODID:-//Veranstaltung//EN
VERSION:2.0
CALSCALE:GREGORIAN
BEGIN:VEVENT
DTSTART;VALUE=DATE-TIME:20240603T120000
DTEND;VALUE=DATE-TIME:20240607T120000
SUMMARY:Masterstudiengang "Business Intelligence" trifft deutsche Sicherheitgemeinschaft in Berlin
LOCATION:Berlin
DESCRIPTION:
UID:
END:VEVENT
END:VCALENDAR