BEGIN:VCALENDAR
PRODID:-//Veranstaltung//EN
VERSION:2.0
CALSCALE:GREGORIAN
BEGIN:VEVENT
DTSTART;VALUE=DATE-TIME:20240628T000000
DTEND;VALUE=DATE-TIME:20240628T235959
SUMMARY:Encontro de Capacitação de Parlamentares da rede Mandatos-C
LOCATION:
DESCRIPTION:
UID:
END:VEVENT
END:VCALENDAR