BEGIN:VCALENDAR
PRODID:-//Veranstaltung//EN
VERSION:2.0
CALSCALE:GREGORIAN
BEGIN:VEVENT
DTSTART;VALUE=DATE-TIME:20240709T093000
DTEND;VALUE=DATE-TIME:20240709T101500
SUMMARY:Der Morgen danach - Wahlnachlese
LOCATION:
DESCRIPTION:Die Bürgerinnen und Bürger in Frankreich sind am 07. Juli 2024 aufgerufen, in der zweiten Runde der Parlamentswahlen die 577 Sitze der Assemblée nationale (Nationalversammlung) zu besetzen.
UID:
END:VEVENT
END:VCALENDAR