BEGIN:VCALENDAR
PRODID:-//Veranstaltung//EN
VERSION:2.0
CALSCALE:GREGORIAN
BEGIN:VEVENT
DTSTART;VALUE=DATE-TIME:20240627T123000
DTEND;VALUE=DATE-TIME:20240627T131500
SUMMARY:Steht Frankreich vor einer Schicksalswahl?
LOCATION:
DESCRIPTION:
UID:
END:VEVENT
END:VCALENDAR