BEGIN:VCALENDAR
PRODID:-//Veranstaltung//EN
VERSION:2.0
CALSCALE:GREGORIAN
BEGIN:VEVENT
DTSTART;VALUE=DATE-TIME:20240704T120000
DTEND;VALUE=DATE-TIME:20240704T140000
SUMMARY:30 in 2030?
LOCATION:Brüssel
DESCRIPTION:Twenty years after the biggest enlargement in the history of the European Union took place, the EU finds itself at another crucial turning point. A few days ago, EU member states have agreed to formally kick off the accession negotiations with Ukraine and Moldova in a first intergovernmental conference on the 25.06. This decision together with the major steps taken by the EU and the rapid developments in the last couple of years raise the question - Is the prospect of 30 EU member states by 2030 a realistic scenario?
UID:
END:VEVENT
END:VCALENDAR