BEGIN:VCALENDAR
PRODID:-//Veranstaltung//EN
VERSION:2.0
CALSCALE:GREGORIAN
BEGIN:VEVENT
DTSTART;VALUE=DATE-TIME:20240705T000000
DTEND;VALUE=DATE-TIME:20240705T235959
SUMMARY:Diskussion: "Election year in the European Union and the USA. What awaits us?"
LOCATION:
DESCRIPTION:Für das LAMPA Festival 2024 lädt die Konrad Adenauer Stiftung zur Expertendiskussion "Election year in the European Union and the USA. What awaits us?" ein.
UID:
END:VEVENT
END:VCALENDAR