BEGIN:VCALENDAR
PRODID:-//Veranstaltung//EN
VERSION:2.0
CALSCALE:GREGORIAN
BEGIN:VEVENT
DTSTART;VALUE=DATE-TIME:20240705T000000
DTEND;VALUE=DATE-TIME:20240705T235959
SUMMARY:Discussion: "Election year in the European Union and the USA. What awaits us?"
LOCATION:
DESCRIPTION:
UID:
END:VEVENT
END:VCALENDAR