BEGIN:VCALENDAR
PRODID:-//Veranstaltung//EN
VERSION:2.0
CALSCALE:GREGORIAN
BEGIN:VEVENT
DTSTART;VALUE=DATE-TIME:20241015T160000
DTEND;VALUE=DATE-TIME:20241018T130000
SUMMARY:Adenauer Media Leaders Academy
LOCATION:
DESCRIPTION:The Adenauer Media Leaders Academy is the annual networking event for fellows and alumni of the scholarship programme of the KAS Media Programme Asia, the Adenauer Fellowship. About 40-50 fellows and alumni from various Asian countries get the chance to meet face-to-face and participate in workshops under the topic AI - ethical journalism techniques, during the two days of the event. This year's Adenauer Media Leaders Academy will take place in Kuala Lumpur, Malaysia.
UID:
END:VEVENT
END:VCALENDAR