BEGIN:VCALENDAR
PRODID:-//Veranstaltung//EN
VERSION:2.0
CALSCALE:GREGORIAN
BEGIN:VEVENT
DTSTART;VALUE=DATE-TIME:20240805T000000
DTEND;VALUE=DATE-TIME:20240807T235959
SUMMARY:Primer campamento de juventudes indígenas en cargos comunitarios de Oaxaca
LOCATION:
DESCRIPTION:La Red de Intérpretes Promotores Interculturales en alianza con el Programa Regional de Participación Política Indígena - PPI de la KAS te invitan a formar parte del "Primer campamento de juventudes indígenas en cargos comunitarios de Oaxaca".
UID:
END:VEVENT
END:VCALENDAR