BEGIN:VCALENDAR
PRODID:-//Veranstaltung//EN
VERSION:2.0
CALSCALE:GREGORIAN
BEGIN:VEVENT
DTSTART;VALUE=DATE-TIME:20240529T000000
DTEND;VALUE=DATE-TIME:20240529T235959
SUMMARY:Autogobierno Indígenas y Diversidad Jurídica
LOCATION:
DESCRIPTION:Un debate multi actoral sobre el estado de la justicia indígena y la justicia ordinaria.
UID:
END:VEVENT
END:VCALENDAR