BEGIN:VCALENDAR
PRODID:-//Veranstaltung//EN
VERSION:2.0
CALSCALE:GREGORIAN
BEGIN:VEVENT
DTSTART;VALUE=DATE-TIME:20240521T000000
DTEND;VALUE=DATE-TIME:20240522T235959
SUMMARY:Escuela de Liderazgo para Mujeres Indígenas Colombianas
LOCATION:
DESCRIPTION:Evento dirigido a mujeres indígenas colombianas de entre 18 y 35 años que busquen profundizar sus habilidades de liderazgo y diálogo.
UID:
END:VEVENT
END:VCALENDAR