BEGIN:VCALENDAR
PRODID:-//Veranstaltung//EN
VERSION:2.0
CALSCALE:GREGORIAN
BEGIN:VEVENT
DTSTART;VALUE=DATE-TIME:20240524T000000
DTEND;VALUE=DATE-TIME:20240525T235959
SUMMARY:Presentación de Resultados: Investigación Consulta Previa en Colombia
LOCATION:
DESCRIPTION:Evento realizado por la Pontificia Universidad Javeriana de Colombia en el que se presentaron datos sobre el proceso de consulta previa a nivel nacional.
UID:
END:VEVENT
END:VCALENDAR