BEGIN:VCALENDAR
PRODID:-//Veranstaltung//EN
VERSION:2.0
CALSCALE:GREGORIAN
BEGIN:VEVENT
DTSTART;VALUE=DATE-TIME:20240524T000000
DTEND;VALUE=DATE-TIME:20240525T235959
SUMMARY:Encuentro de políticos y evaluación de participación política indígena
LOCATION:
DESCRIPTION:Una evaluación de la participación indígena en diversos partidos políticos.
UID:
END:VEVENT
END:VCALENDAR