BEGIN:VCALENDAR
PRODID:-//Veranstaltung//EN
VERSION:2.0
CALSCALE:GREGORIAN
BEGIN:VEVENT
DTSTART;VALUE=DATE-TIME:20241002T190000
DTEND;VALUE=DATE-TIME:20241002T213000
SUMMARY:Die Sehnsucht nach dem starken Mann – Umschau, Motive, Gegengifte
LOCATION:Stuttgart
DESCRIPTION:
UID:
END:VEVENT
END:VCALENDAR