BEGIN:VCALENDAR
PRODID:-//Veranstaltung//EN
VERSION:2.0
CALSCALE:GREGORIAN
BEGIN:VEVENT
DTSTART;VALUE=DATE-TIME:20240904T000000
DTEND;VALUE=DATE-TIME:20241106T235959
SUMMARY:Curso "pensar la política hoy"
LOCATION:Montevideo
DESCRIPTION:
UID:
END:VEVENT
END:VCALENDAR