BEGIN:VCALENDAR
PRODID:-//Veranstaltung//EN
VERSION:2.0
CALSCALE:GREGORIAN
BEGIN:VEVENT
DTSTART;VALUE=DATE-TIME:20240821T143000
DTEND;VALUE=DATE-TIME:20240821T235959
SUMMARY:Wissenschaft und Politik: Partner für die Zukunft der Antarktis
LOCATION:
DESCRIPTION:Die Veranstaltung findet am Mittwoch, dem 21. August um 14:30 Uhr im Gran Hotel Pucón statt und ist öffentlich zugänglich.
UID:
END:VEVENT
END:VCALENDAR