BEGIN:VCALENDAR
PRODID:-//Veranstaltung//EN
VERSION:2.0
CALSCALE:GREGORIAN
BEGIN:VEVENT
DTSTART;VALUE=DATE-TIME:20240821T143000
DTEND;VALUE=DATE-TIME:20240821T235959
SUMMARY:Ciencia y Política: Socios para el Futuro de la Antártica
LOCATION:
DESCRIPTION:El encuentro estará abierto al público el miércoles 21 de agosto a las 14:30, en el Gran Hotel Pucón.
UID:
END:VEVENT
END:VCALENDAR