BEGIN:VCALENDAR
PRODID:-//Veranstaltung//EN
VERSION:2.0
CALSCALE:GREGORIAN
BEGIN:VEVENT
DTSTART;VALUE=DATE-TIME:20241014T180000
DTEND;VALUE=DATE-TIME:20241014T193000
SUMMARY:Wehrdienst, Wehrpflicht, Gesellschaftsjahr – Was braucht Deutschland?
LOCATION:Köln
DESCRIPTION:Angesichts der sicherheitspolitischen Herausforderungen für unser Land diskutieren wir über die Einführung einer Wehr- oder Dienstpflicht in Deutschland.
UID:
END:VEVENT
END:VCALENDAR